BEGIN:VCALENDAR
VERSION:2.0
PRODID:-//Jobcenter Wesermarsch - ECPv6.15.20//NONSGML v1.0//EN
CALSCALE:GREGORIAN
METHOD:PUBLISH
X-WR-CALNAME:Jobcenter Wesermarsch
X-ORIGINAL-URL:https://jobcenter-wesermarsch.de
X-WR-CALDESC:Veranstaltungen für Jobcenter Wesermarsch
REFRESH-INTERVAL;VALUE=DURATION:PT1H
X-Robots-Tag:noindex
X-PUBLISHED-TTL:PT1H
BEGIN:VTIMEZONE
TZID:Europe/Berlin
BEGIN:DAYLIGHT
TZOFFSETFROM:+0100
TZOFFSETTO:+0200
TZNAME:CEST
DTSTART:20250330T010000
END:DAYLIGHT
BEGIN:STANDARD
TZOFFSETFROM:+0200
TZOFFSETTO:+0100
TZNAME:CET
DTSTART:20251026T010000
END:STANDARD
BEGIN:DAYLIGHT
TZOFFSETFROM:+0100
TZOFFSETTO:+0200
TZNAME:CEST
DTSTART:20260329T010000
END:DAYLIGHT
BEGIN:STANDARD
TZOFFSETFROM:+0200
TZOFFSETTO:+0100
TZNAME:CET
DTSTART:20261025T010000
END:STANDARD
BEGIN:DAYLIGHT
TZOFFSETFROM:+0100
TZOFFSETTO:+0200
TZNAME:CEST
DTSTART:20270328T010000
END:DAYLIGHT
BEGIN:STANDARD
TZOFFSETFROM:+0200
TZOFFSETTO:+0100
TZNAME:CET
DTSTART:20271031T010000
END:STANDARD
END:VTIMEZONE
BEGIN:VEVENT
DTSTART;TZID=Europe/Berlin:20260901T090000
DTEND;TZID=Europe/Berlin:20260901T110000
DTSTAMP:20260420T063917
CREATED:20260327T111628Z
LAST-MODIFIED:20260327T111628Z
UID:2163-1788253200-1788260400@jobcenter-wesermarsch.de
SUMMARY:Personaldienstleister im Dialog (Nordenham)
DESCRIPTION:Am 1. September ist die Orizon GmbH in der Eingangszone der Nordenhamer Dienststelle anzutreffen. \nAlle Interessierten sind herzlich willkommen um mit dem Unternehmen ins Gespräch zu kommen. Eine Terminvereinbarung ist nicht notwendig. Es wird empfohlen einen ausgedruckten Lebenslauf mitzubringen. \nÜber die Veranstaltungsreihe\nJeden 1. Dienstag im Monat ist von 9 bis 11 Uhr ein wechselnder Personaldienstleister im Jobcenter Wesermarsch. Dabei ist ein direkter Austausch mit dem Personaldienstleister möglich. Dieser präsentiert offenen Stellen und es besteht die Möglichkeit ein kurzes Kennenlerngespräch zu führen. \nDer jeweilige Personaldienstleister ist in Nordenham in den ungeraden Monaten in der Eingangszone und in Brake in den geraden Monaten im Foyer anzutreffen. Die Termine und das konkrete Unternehmen sind im Veranstaltungskalender einsehbar. \nSie sind ein Personaldienstleister und möchten an dieser Reihe teilnehmen? Kontaktieren Sie gern den gemeinsamen Arbeitgeberservice.
URL:https://jobcenter-wesermarsch.de/event/personaldienstleister-im-dialog-nordenham-3/
LOCATION:Jobcenter Wesermarsch Nordenham\, Bahnhofstr. 30\, Nordenham\, 26954\, Germany
CATEGORIES:Jobcenter,Vor Ort
ATTACH;FMTTYPE=image/png:https://jobcenter-wesermarsch.de/wp-content/uploads/2026/03/pdl.png
END:VEVENT
END:VCALENDAR