BEGIN:VCALENDAR
VERSION:2.0
PRODID:-//Jobcenter Wesermarsch - ECPv6.15.20//NONSGML v1.0//EN
CALSCALE:GREGORIAN
METHOD:PUBLISH
X-WR-CALNAME:Jobcenter Wesermarsch
X-ORIGINAL-URL:https://jobcenter-wesermarsch.de
X-WR-CALDESC:Veranstaltungen für Jobcenter Wesermarsch
REFRESH-INTERVAL;VALUE=DURATION:PT1H
X-Robots-Tag:noindex
X-PUBLISHED-TTL:PT1H
BEGIN:VTIMEZONE
TZID:Europe/Berlin
BEGIN:DAYLIGHT
TZOFFSETFROM:+0100
TZOFFSETTO:+0200
TZNAME:CEST
DTSTART:20250330T010000
END:DAYLIGHT
BEGIN:STANDARD
TZOFFSETFROM:+0200
TZOFFSETTO:+0100
TZNAME:CET
DTSTART:20251026T010000
END:STANDARD
BEGIN:DAYLIGHT
TZOFFSETFROM:+0100
TZOFFSETTO:+0200
TZNAME:CEST
DTSTART:20260329T010000
END:DAYLIGHT
BEGIN:STANDARD
TZOFFSETFROM:+0200
TZOFFSETTO:+0100
TZNAME:CET
DTSTART:20261025T010000
END:STANDARD
BEGIN:DAYLIGHT
TZOFFSETFROM:+0100
TZOFFSETTO:+0200
TZNAME:CEST
DTSTART:20270328T010000
END:DAYLIGHT
BEGIN:STANDARD
TZOFFSETFROM:+0200
TZOFFSETTO:+0100
TZNAME:CET
DTSTART:20271031T010000
END:STANDARD
END:VTIMEZONE
BEGIN:VEVENT
DTSTART;TZID=Europe/Berlin:20260420T000000
DTEND;TZID=Europe/Berlin:20260430T235959
DTSTAMP:20260419T144110
CREATED:20260325T100259Z
LAST-MODIFIED:20260325T100259Z
UID:2130-1776643200-1777593599@jobcenter-wesermarsch.de
SUMMARY:Woche der Orientierung und Weiterentwicklung
DESCRIPTION:Für alle Erwachsenen\, die sich neu orientieren oder weiterentwickeln wollen\, bieten die Verbünde für Berufsberatung im Erwerbsleben die Woche der Orientierung und Weiterentwicklung an. \nHier erwarten Sie viele interessante und kostenlose Online-Veranstaltungen\, wie zum Beispiel: \n\nErkenne deine Stärken\nDigitale Kompetenzen und Future-Skills – was braucht der Arbeitsmarkt heute?\nKI als Karriere Booster für Einsteiger*innen: Wie Künstliche Intelligenz (KI) Ihre Bewerbung optimiert\nKarriere neu denken – umschulen mit Aufstiegsweiterbildungen\nIhr Beruflicher Wiedereinstieg: Informieren\, Orientieren und Stärken Erkennen\n\nDiese und viele weitere interessante Veranstaltungen finden Sie auf der Webseite der Agentur.
URL:https://jobcenter-wesermarsch.de/event/woche-der-orientierung-und-weiterentwicklung/
LOCATION:online
CATEGORIES:online
ATTACH;FMTTYPE=image/jpeg:https://jobcenter-wesermarsch.de/wp-content/uploads/2026/03/online_WOW.jpg
END:VEVENT
END:VCALENDAR