BEGIN:VCALENDAR
VERSION:2.0
PRODID:-//Jobcenter Wesermarsch - ECPv6.15.20//NONSGML v1.0//EN
CALSCALE:GREGORIAN
METHOD:PUBLISH
X-WR-CALNAME:Jobcenter Wesermarsch
X-ORIGINAL-URL:https://jobcenter-wesermarsch.de
X-WR-CALDESC:Veranstaltungen für Jobcenter Wesermarsch
REFRESH-INTERVAL;VALUE=DURATION:PT1H
X-Robots-Tag:noindex
X-PUBLISHED-TTL:PT1H
BEGIN:VTIMEZONE
TZID:Europe/Berlin
BEGIN:DAYLIGHT
TZOFFSETFROM:+0100
TZOFFSETTO:+0200
TZNAME:CEST
DTSTART:20250330T010000
END:DAYLIGHT
BEGIN:STANDARD
TZOFFSETFROM:+0200
TZOFFSETTO:+0100
TZNAME:CET
DTSTART:20251026T010000
END:STANDARD
BEGIN:DAYLIGHT
TZOFFSETFROM:+0100
TZOFFSETTO:+0200
TZNAME:CEST
DTSTART:20260329T010000
END:DAYLIGHT
BEGIN:STANDARD
TZOFFSETFROM:+0200
TZOFFSETTO:+0100
TZNAME:CET
DTSTART:20261025T010000
END:STANDARD
BEGIN:DAYLIGHT
TZOFFSETFROM:+0100
TZOFFSETTO:+0200
TZNAME:CEST
DTSTART:20270328T010000
END:DAYLIGHT
BEGIN:STANDARD
TZOFFSETFROM:+0200
TZOFFSETTO:+0100
TZNAME:CET
DTSTART:20271031T010000
END:STANDARD
END:VTIMEZONE
BEGIN:VEVENT
DTSTART;TZID=Europe/Berlin:20260420T080000
DTEND;TZID=Europe/Berlin:20260420T160000
DTSTAMP:20260419T174903
CREATED:20260113T135023Z
LAST-MODIFIED:20260313T122444Z
UID:1952-1776672000-1776700800@jobcenter-wesermarsch.de
SUMMARY:Migrationsberatung
DESCRIPTION:Die Migrationsberatung nach der Richtlinie Migration des Landes Niedersachsen ist offen für Zugewanderte. Die Beratung vermittelt zeitnah und individuell benötigte Orientierung und Hilfestellung. \nSchwerpunkte sind Information und individuelle Beratung \n\nin aufenthaltsrechtlichen Fragen\,\nin sozialrechtlichen Fragen\,\nals sozialpädagogische und psychosoziale Beratung\,\nüber Integrationskurse und weitere Sprachfördermaßnahmen sowie die individuelle Vermittlung in diese\,\nbei der Integration in Bildung\, Ausbildung und Arbeit\,\nbei Weiterwanderungs- und Rückkehrabsicht sowie Unterstützung bei der Reintegration.\n\nAchtung: Pause von 12.30 bis 13:30 Uhr!
URL:https://jobcenter-wesermarsch.de/event/migrationsberatung/
LOCATION:Refugium Wesermarsch (Brake)\, Grüne Straße 5\, Brake\, 26919\, Germany
CATEGORIES:auswärts,Vor Ort
END:VEVENT
BEGIN:VEVENT
DTSTART;TZID=Europe/Berlin:20260420T161500
DTEND;TZID=Europe/Berlin:20260420T183000
DTSTAMP:20260419T174903
CREATED:20260318T143416Z
LAST-MODIFIED:20260414T083533Z
UID:2086-1776701700-1776709800@jobcenter-wesermarsch.de
SUMMARY:Sprachcafé (Nordenham)
DESCRIPTION:Das Projekt Aufplus bietet kostenlose Sprachcafés in der Wesermarsch an. Diese sind kostenlos und finden wöchentlich statt. \nEin Ort für alle Kulturen\, um Deutsch zu sprechen und um sich kennenzulernen.
URL:https://jobcenter-wesermarsch.de/event/sprachcafe-nordenham-2/
LOCATION:KVHS Wesermarsch (Nordenham)\, Marktplatz 5\, Nordenham\, 26954\, Germany
CATEGORIES:auswärts,Vor Ort
END:VEVENT
BEGIN:VEVENT
DTSTART;TZID=Europe/Berlin:20260421T150000
DTEND;TZID=Europe/Berlin:20260421T171500
DTSTAMP:20260419T174903
CREATED:20260318T143604Z
LAST-MODIFIED:20260414T083501Z
UID:2088-1776783600-1776791700@jobcenter-wesermarsch.de
SUMMARY:Sprachcafé (Brake)
DESCRIPTION:Das Projekt Aufplus bietet kostenlose Sprachcafés in der Wesermarsch an. Diese sind kostenlos und finden wöchentlich statt. \nEin Ort für alle Kulturen\, um Deutsch zu sprechen und um sich kennenzulernen.
URL:https://jobcenter-wesermarsch.de/event/sprachcafe-brake/
LOCATION:KVHS Wesermarsch\, Bürgermeister-Müller-Straße 35\, Brake\, 26919\, Germany
CATEGORIES:auswärts,Vor Ort
END:VEVENT
BEGIN:VEVENT
DTSTART;TZID=Europe/Berlin:20260421T153000
DTEND;TZID=Europe/Berlin:20260421T173000
DTSTAMP:20260419T174903
CREATED:20260121T105416Z
LAST-MODIFIED:20260327T102551Z
UID:1966-1776785400-1776792600@jobcenter-wesermarsch.de
SUMMARY:Interkultureller Frauentreff
DESCRIPTION:Der Interkulturelle Treff im Refugium in Brake ist der Treffpunkt für interkulturelle Begegnung\, Deutsch lernen und Integrationsprojekte. \nAchtung: Eingang Lange Str. 62 (auf der anderen Seite des Refugiums\, Eingang vom Deich aus)
URL:https://jobcenter-wesermarsch.de/event/interkultureller-frauentreff-4/
LOCATION:Refugium Wesermarsch (Brake)\, Grüne Straße 5\, Brake\, 26919\, Germany
CATEGORIES:auswärts,Vor Ort
END:VEVENT
BEGIN:VEVENT
DTSTART;TZID=Europe/Berlin:20260422T090000
DTEND;TZID=Europe/Berlin:20260422T111500
DTSTAMP:20260419T174903
CREATED:20260318T143844Z
LAST-MODIFIED:20260414T083420Z
UID:2092-1776848400-1776856500@jobcenter-wesermarsch.de
SUMMARY:Sprachcafé (Lemwerder)
DESCRIPTION:Das Projekt Aufplus bietet kostenlose Sprachcafés in der Wesermarsch an. Diese sind kostenlos und finden wöchentlich statt. \nEin Ort für alle Kulturen\, um Deutsch zu sprechen und um sich kennenzulernen.
URL:https://jobcenter-wesermarsch.de/event/sprachcafe-lemwerder/
LOCATION:Johanniter-Quartier\, Eschhoftreff\, Eschhofstr. 9\, Lemwerder\, 27809
CATEGORIES:auswärts,Vor Ort
END:VEVENT
BEGIN:VEVENT
DTSTART;TZID=Europe/Berlin:20260423T103000
DTEND;TZID=Europe/Berlin:20260423T120000
DTSTAMP:20260419T174903
CREATED:20251219T095852Z
LAST-MODIFIED:20260318T054744Z
UID:298-1776940200-1776945600@jobcenter-wesermarsch.de
SUMMARY:Anerkennung ausländischer Zeugnisse und Qualifikationen (russisch)
DESCRIPTION:Informationsveranstaltungen für Menschen aus der Ukraine\nDas Förderprogramm IQ unterstützt Sie dabei\, Ihren im Ausland erlernten Beruf in Deutschland anerkennen zu lassen. Das Ziel der kostenfreien Beratung ist es\, Personen mit ausländischen Berufs- und Studienabschlüssen dabei zu unterstützen\, einen Beruf in Deutschland auszuüben\, der ihren gelernten Qualifikationen entspricht. \nUm Ihnen genauer zu erklären\, was eine Berufsanerkennung bedeutet\, für wen sie wichtig ist und wie die Verfahren ablaufen\, bietet das Förderprogramm IQ Ihnen kostenlose\, russischsprachige Informationsveranstaltungen an. \nWeitere Informationen finden Sie auf der Webseite vom migrationsportal.de.
URL:https://jobcenter-wesermarsch.de/event/anerkennung-auslaendischer-zeugnisse-und-qualifikationen-2/
LOCATION:online
CATEGORIES:online
ORGANIZER;CN="F%C3%B6rderprogramm IQ":MAILTO:info@rkw-nord.de
END:VEVENT
BEGIN:VEVENT
DTSTART;TZID=Europe/Berlin:20260424T110000
DTEND;TZID=Europe/Berlin:20260424T143000
DTSTAMP:20260419T174903
CREATED:20260326T052226Z
LAST-MODIFIED:20260415T122523Z
UID:2145-1777028400-1777041000@jobcenter-wesermarsch.de
SUMMARY:Beratungscafé (Elsfleth)
DESCRIPTION:offene Migrationsberatung\nbehördenunabhängige Asylverfahrensberatung (AVB)\n\nDas Titelbild wurde mit Hilfe von KI generiert.
URL:https://jobcenter-wesermarsch.de/event/beratungscafe-elsfleth-4/
LOCATION:Deutsches Rotes Kreuz Kreisverband Wesermarsch e.V.\, Oberrege 27\, Elsfleth\, 26931\, Germany
CATEGORIES:auswärts,Vor Ort
ATTACH;FMTTYPE=image/jpeg:https://jobcenter-wesermarsch.de/wp-content/uploads/2026/03/beratungscafe.jpg
ORGANIZER;CN="Deutsches Rotes Kreuz Kreisverband Wesermarsch e.V.":MAILTO:migration@drk-wesermarsch.de
END:VEVENT
BEGIN:VEVENT
DTSTART;TZID=Europe/Berlin:20260427T080000
DTEND;TZID=Europe/Berlin:20260427T160000
DTSTAMP:20260419T174903
CREATED:20260123T095644Z
LAST-MODIFIED:20260320T055758Z
UID:1983-1777276800-1777305600@jobcenter-wesermarsch.de
SUMMARY:Migrationsberatung
DESCRIPTION:Die Migrationsberatung nach der Richtlinie Migration des Landes Niedersachsen ist offen für Zugewanderte. Die Beratung vermittelt zeitnah und individuell benötigte Orientierung und Hilfestellung. \nSchwerpunkte sind Information und individuelle Beratung \n\nin aufenthaltsrechtlichen Fragen\,\nin sozialrechtlichen Fragen\,\nals sozialpädagogische und psychosoziale Beratung\,\nüber Integrationskurse und weitere Sprachfördermaßnahmen sowie die individuelle Vermittlung in diese\,\nbei der Integration in Bildung\, Ausbildung und Arbeit\,\nbei Weiterwanderungs- und Rückkehrabsicht sowie Unterstützung bei der Reintegration.\n\nAchtung: Pause von 12.30 bis 13:30 Uhr!
URL:https://jobcenter-wesermarsch.de/event/migrationsberatung-2/
LOCATION:Refugium Wesermarsch (Brake)\, Grüne Straße 5\, Brake\, 26919\, Germany
CATEGORIES:auswärts,Vor Ort
END:VEVENT
BEGIN:VEVENT
DTSTART;TZID=Europe/Berlin:20260427T161500
DTEND;TZID=Europe/Berlin:20260427T183000
DTSTAMP:20260419T174903
CREATED:20260318T143302Z
LAST-MODIFIED:20260414T083602Z
UID:2084-1777306500-1777314600@jobcenter-wesermarsch.de
SUMMARY:Sprachcafé (Nordenham)
DESCRIPTION:Das Projekt Aufplus bietet kostenlose Sprachcafés in der Wesermarsch an. Diese sind kostenlos und finden wöchentlich statt. \nEin Ort für alle Kulturen\, um Deutsch zu sprechen und um sich kennenzulernen.
URL:https://jobcenter-wesermarsch.de/event/sprachcafe-nordenham/
LOCATION:KVHS Wesermarsch (Nordenham)\, Marktplatz 5\, Nordenham\, 26954\, Germany
CATEGORIES:auswärts,Vor Ort
END:VEVENT
BEGIN:VEVENT
DTSTART;TZID=Europe/Berlin:20260428T150000
DTEND;TZID=Europe/Berlin:20260428T171500
DTSTAMP:20260419T174904
CREATED:20260318T143702Z
LAST-MODIFIED:20260417T081227Z
UID:2090-1777388400-1777396500@jobcenter-wesermarsch.de
SUMMARY:Sprachcafé (Brake)
DESCRIPTION:Das Projekt Aufplus bietet kostenlose Sprachcafés in der Wesermarsch an. Diese sind kostenlos und finden wöchentlich statt. \nEin Ort für alle Kulturen\, um Deutsch zu sprechen und um sich kennenzulernen.
URL:https://jobcenter-wesermarsch.de/event/sprachcafe-brake-2/
LOCATION:KVHS Wesermarsch\, Bürgermeister-Müller-Straße 35\, Brake\, 26919\, Germany
CATEGORIES:auswärts,Vor Ort
END:VEVENT
BEGIN:VEVENT
DTSTART;TZID=Europe/Berlin:20260428T153000
DTEND;TZID=Europe/Berlin:20260428T173000
DTSTAMP:20260419T174904
CREATED:20260121T105258Z
LAST-MODIFIED:20260414T083822Z
UID:1964-1777390200-1777397400@jobcenter-wesermarsch.de
SUMMARY:Interkultureller Frauentreff
DESCRIPTION:Der Interkulturelle Treff im Refugium in Brake ist der Treffpunkt für interkulturelle Begegnung\, Deutsch lernen und Integrationsprojekte. \nAchtung: Eingang Lange Str. 62 (auf der anderen Seite des Refugiums\, Eingang vom Deich aus)
URL:https://jobcenter-wesermarsch.de/event/interkultureller-frauentreff-3/
LOCATION:Refugium Wesermarsch (Brake)\, Grüne Straße 5\, Brake\, 26919\, Germany
CATEGORIES:auswärts,Vor Ort
END:VEVENT
BEGIN:VEVENT
DTSTART;TZID=Europe/Berlin:20260429T090000
DTEND;TZID=Europe/Berlin:20260429T111500
DTSTAMP:20260419T174904
CREATED:20260318T143947Z
LAST-MODIFIED:20260417T081340Z
UID:2095-1777453200-1777461300@jobcenter-wesermarsch.de
SUMMARY:Sprachcafé (Lemwerder)
DESCRIPTION:Das Projekt Aufplus bietet kostenlose Sprachcafés in der Wesermarsch an. Diese sind kostenlos und finden wöchentlich statt. \nEin Ort für alle Kulturen\, um Deutsch zu sprechen und um sich kennenzulernen.
URL:https://jobcenter-wesermarsch.de/event/sprachcafe-lemwerder-2/
LOCATION:Johanniter-Quartier\, Eschhoftreff\, Eschhofstr. 9\, Lemwerder\, 27809
CATEGORIES:auswärts,Vor Ort
END:VEVENT
END:VCALENDAR