BEGIN:VCALENDAR
VERSION:2.0
PRODID:-//Jobcenter Wesermarsch - ECPv6.15.20//NONSGML v1.0//EN
CALSCALE:GREGORIAN
METHOD:PUBLISH
X-WR-CALNAME:Jobcenter Wesermarsch
X-ORIGINAL-URL:https://jobcenter-wesermarsch.de
X-WR-CALDESC:Veranstaltungen für Jobcenter Wesermarsch
REFRESH-INTERVAL;VALUE=DURATION:PT1H
X-Robots-Tag:noindex
X-PUBLISHED-TTL:PT1H
BEGIN:VTIMEZONE
TZID:Europe/Berlin
BEGIN:DAYLIGHT
TZOFFSETFROM:+0100
TZOFFSETTO:+0200
TZNAME:CEST
DTSTART:20250330T010000
END:DAYLIGHT
BEGIN:STANDARD
TZOFFSETFROM:+0200
TZOFFSETTO:+0100
TZNAME:CET
DTSTART:20251026T010000
END:STANDARD
BEGIN:DAYLIGHT
TZOFFSETFROM:+0100
TZOFFSETTO:+0200
TZNAME:CEST
DTSTART:20260329T010000
END:DAYLIGHT
BEGIN:STANDARD
TZOFFSETFROM:+0200
TZOFFSETTO:+0100
TZNAME:CET
DTSTART:20261025T010000
END:STANDARD
BEGIN:DAYLIGHT
TZOFFSETFROM:+0100
TZOFFSETTO:+0200
TZNAME:CEST
DTSTART:20270328T010000
END:DAYLIGHT
BEGIN:STANDARD
TZOFFSETFROM:+0200
TZOFFSETTO:+0100
TZNAME:CET
DTSTART:20271031T010000
END:STANDARD
END:VTIMEZONE
BEGIN:VEVENT
DTSTART;TZID=Europe/Berlin:20260430T110000
DTEND;TZID=Europe/Berlin:20260430T160000
DTSTAMP:20260419T211405
CREATED:20260113T051214Z
LAST-MODIFIED:20260327T105139Z
UID:817-1777546800-1777564800@jobcenter-wesermarsch.de
SUMMARY:Gesundheitslotsin (Brake)
DESCRIPTION:Tun Sie etwas Gutes für sich und Ihre Gesundheit! \nWorum geht es in der Beratung? \n\nIn einem Gespräch mit Frau Windhoff suchen Sie gemeinsam einen Weg\, um Ihr Wohlbefinden und Ihre Gesundheit zu verbessern\nFrau Windhoff berät Sie gerne zu den Themen Entspannung\, Bewegung\, Ernährung\, dem Umgang mit Suchtmitteln und Ihren persönlichen Gesundheitsfragen\n\nFrau Windhoff berät jeden vierten Donnerstag im Jobcenter Wesermarsch\, Standort Brake. Bitte vereinbaren Sie vorab einen Termin oder sprechen sie Ihren persönlichen Ansprechpartner im Jobcenter an. Wenn Sie spontan vorbei kommen\, melden Sie sich bitte am Tresen. \nDie Beratung ist für alle Kundinnen und Kunden des Jobcenters Wesermarsch kostenlos\, freiwillig und unverbindlich. Die Gesprächsinhalte verbleiben bei der Gesundheitslotsin und werden nicht an das Jobcenter weitergeleitet. \nInfo-Material\n\nPoster: Die Gesundheitslotsin\nPostkarte: Die Gesundheitslotsin
URL:https://jobcenter-wesermarsch.de/event/gesundheitslotsin-in-brake-2/
LOCATION:Jobcenter Wesermarsch Brake\, Weserstraße 2\, Brake\, 26919\, Germany
CATEGORIES:Jobcenter,Vor Ort
ATTACH;FMTTYPE=image/jpeg:https://jobcenter-wesermarsch.de/wp-content/uploads/2026/01/gesundheitslotsin_16x9.jpg
ORGANIZER;CN="Frau Windhoff":MAILTO:gesundheitslotsin-wesermarsch@ewe.net
END:VEVENT
END:VCALENDAR