BEGIN:VCALENDAR
VERSION:2.0
PRODID:-//Jobcenter Wesermarsch - ECPv6.15.20//NONSGML v1.0//EN
CALSCALE:GREGORIAN
METHOD:PUBLISH
X-WR-CALNAME:Jobcenter Wesermarsch
X-ORIGINAL-URL:https://jobcenter-wesermarsch.de
X-WR-CALDESC:Veranstaltungen für Jobcenter Wesermarsch
REFRESH-INTERVAL;VALUE=DURATION:PT1H
X-Robots-Tag:noindex
X-PUBLISHED-TTL:PT1H
BEGIN:VTIMEZONE
TZID:Europe/Berlin
BEGIN:DAYLIGHT
TZOFFSETFROM:+0100
TZOFFSETTO:+0200
TZNAME:CEST
DTSTART:20250330T010000
END:DAYLIGHT
BEGIN:STANDARD
TZOFFSETFROM:+0200
TZOFFSETTO:+0100
TZNAME:CET
DTSTART:20251026T010000
END:STANDARD
BEGIN:DAYLIGHT
TZOFFSETFROM:+0100
TZOFFSETTO:+0200
TZNAME:CEST
DTSTART:20260329T010000
END:DAYLIGHT
BEGIN:STANDARD
TZOFFSETFROM:+0200
TZOFFSETTO:+0100
TZNAME:CET
DTSTART:20261025T010000
END:STANDARD
BEGIN:DAYLIGHT
TZOFFSETFROM:+0100
TZOFFSETTO:+0200
TZNAME:CEST
DTSTART:20270328T010000
END:DAYLIGHT
BEGIN:STANDARD
TZOFFSETFROM:+0200
TZOFFSETTO:+0100
TZNAME:CET
DTSTART:20271031T010000
END:STANDARD
END:VTIMEZONE
BEGIN:VEVENT
DTSTART;TZID=Europe/Berlin:20260619T150000
DTEND;TZID=Europe/Berlin:20260619T180000
DTSTAMP:20260419T214312
CREATED:20260205T131339Z
LAST-MODIFIED:20260417T082057Z
UID:2010-1781881200-1781892000@jobcenter-wesermarsch.de
SUMMARY:Next Step – Starte durch zum Traumberuf
DESCRIPTION:2. Azubi- und Fachkräftemesse\nDie Stadt Nordenham lädt gemeinsam mit dem CVJM Sozialwerk Wesermarsch e.V. und Zeit & Service zur 2. Messe für Ausbildung\, duale Studiengänge und Karrierechancen ein. \nUnter dem Motto „Next Step – Starte durch zum Traumberuf“ erhalten Schüler\, Auszubildende und Berufseinsteiger: \n\nEinblicke in Ausbildungsberufe\, duale Studiengänge und Berufsfelder\nDirekte Gespräche mit Arbeitgebern und Fachkräften\nInfos zu Einstiegs-\, Ausbildungs- und Entwicklungsmöglichkeiten\n\nInfo-Material\n\nFlyer Azubi-Messe\nPlakat Azubi-Messe
URL:https://jobcenter-wesermarsch.de/event/next-step-starte-durch-zum-traumberuf/
LOCATION:Sozialwerk\, Helgoländer Damm 1\, Nordenham\, 26954\, Germany
CATEGORIES:auswärts,Vor Ort
ATTACH;FMTTYPE=image/jpeg:https://jobcenter-wesermarsch.de/wp-content/uploads/2026/02/next.jpg
END:VEVENT
END:VCALENDAR