BEGIN:VCALENDAR
VERSION:2.0
PRODID:-//Jobcenter Wesermarsch - ECPv6.15.20//NONSGML v1.0//EN
CALSCALE:GREGORIAN
METHOD:PUBLISH
X-WR-CALNAME:Jobcenter Wesermarsch
X-ORIGINAL-URL:https://jobcenter-wesermarsch.de
X-WR-CALDESC:Veranstaltungen für Jobcenter Wesermarsch
REFRESH-INTERVAL;VALUE=DURATION:PT1H
X-Robots-Tag:noindex
X-PUBLISHED-TTL:PT1H
BEGIN:VTIMEZONE
TZID:Europe/Berlin
BEGIN:DAYLIGHT
TZOFFSETFROM:+0100
TZOFFSETTO:+0200
TZNAME:CEST
DTSTART:20250330T010000
END:DAYLIGHT
BEGIN:STANDARD
TZOFFSETFROM:+0200
TZOFFSETTO:+0100
TZNAME:CET
DTSTART:20251026T010000
END:STANDARD
BEGIN:DAYLIGHT
TZOFFSETFROM:+0100
TZOFFSETTO:+0200
TZNAME:CEST
DTSTART:20260329T010000
END:DAYLIGHT
BEGIN:STANDARD
TZOFFSETFROM:+0200
TZOFFSETTO:+0100
TZNAME:CET
DTSTART:20261025T010000
END:STANDARD
BEGIN:DAYLIGHT
TZOFFSETFROM:+0100
TZOFFSETTO:+0200
TZNAME:CEST
DTSTART:20270328T010000
END:DAYLIGHT
BEGIN:STANDARD
TZOFFSETFROM:+0200
TZOFFSETTO:+0100
TZNAME:CET
DTSTART:20271031T010000
END:STANDARD
END:VTIMEZONE
BEGIN:VEVENT
DTSTART;TZID=Europe/Berlin:20260601T080000
DTEND;TZID=Europe/Berlin:20260601T160000
DTSTAMP:20260420T130310
CREATED:20260123T095735Z
LAST-MODIFIED:20260414T083121Z
UID:1985-1780300800-1780329600@jobcenter-wesermarsch.de
SUMMARY:Migrationsberatung
DESCRIPTION:Die Migrationsberatung nach der Richtlinie Migration des Landes Niedersachsen ist offen für Zugewanderte. Die Beratung vermittelt zeitnah und individuell benötigte Orientierung und Hilfestellung. \nSchwerpunkte sind Information und individuelle Beratung \n\nin aufenthaltsrechtlichen Fragen\,\nin sozialrechtlichen Fragen\,\nals sozialpädagogische und psychosoziale Beratung\,\nüber Integrationskurse und weitere Sprachfördermaßnahmen sowie die individuelle Vermittlung in diese\,\nbei der Integration in Bildung\, Ausbildung und Arbeit\,\nbei Weiterwanderungs- und Rückkehrabsicht sowie Unterstützung bei der Reintegration.\n\nAchtung: Pause von 12.30 bis 13:30 Uhr!
URL:https://jobcenter-wesermarsch.de/event/migrationsberatung-3/
LOCATION:Refugium Wesermarsch (Brake)\, Grüne Straße 5\, Brake\, 26919\, Germany
CATEGORIES:auswärts,Vor Ort
END:VEVENT
BEGIN:VEVENT
DTSTART;TZID=Europe/Berlin:20260602T090000
DTEND;TZID=Europe/Berlin:20260602T094500
DTSTAMP:20260420T130310
CREATED:20260107T113904Z
LAST-MODIFIED:20260113T145901Z
UID:734-1780390800-1780393500@jobcenter-wesermarsch.de
SUMMARY:Spracheinstufung Integrationskurs (Brake)
DESCRIPTION:Raum: BR 1.3 Konferenzraum klein \nWenn Sie einen Integrationskurs belegen möchten\, melden Sie sich bitte vorher bei der KVHS an. \nBitte bringen Sie mit: \n\nAusweis\nBerechtigungs- oder Verpflichtungsschein\n\nDie Teilnahme an der Spracheinstufung ist kostenlos\, wenn eine Berechtigung oder Verpflichtung vorliegt.
URL:https://jobcenter-wesermarsch.de/event/spracheinstufung-integrationskurs-brake-11/
LOCATION:KVHS Wesermarsch\, Bürgermeister-Müller-Straße 35\, Brake\, 26919\, Germany
CATEGORIES:auswärts,Vor Ort
END:VEVENT
BEGIN:VEVENT
DTSTART;TZID=Europe/Berlin:20260602T090000
DTEND;TZID=Europe/Berlin:20260602T110000
DTSTAMP:20260420T130310
CREATED:20260327T111040Z
LAST-MODIFIED:20260327T111040Z
UID:2159-1780390800-1780398000@jobcenter-wesermarsch.de
SUMMARY:Personaldienstleister im Dialog (Brake)
DESCRIPTION:Am 5. Mai ist die prompt Personaldienstleistungen GmbH im Foyer der Braker Dienststelle anzutreffen. \nAlle Interessierten sind herzlich willkommen um mit dem Unternehmen ins Gespräch zu kommen. Eine Terminvereinbarung ist nicht notwendig. Es wird empfohlen einen ausgedruckten Lebenslauf mitzubringen. \nÜber die Veranstaltungsreihe\nJeden 1. Dienstag im Monat ist von 9 bis 11 Uhr ein wechselnder Personaldienstleister im Jobcenter Wesermarsch. Dabei ist ein direkter Austausch mit dem Personaldienstleister möglich. Dieser präsentiert offenen Stellen und es besteht die Möglichkeit ein kurzes Kennenlerngespräch zu führen. \nDer jeweilige Personaldienstleister ist in Nordenham in den ungeraden Monaten in der Eingangszone und in Brake in den geraden Monaten im Foyer anzutreffen. Die Termine und das konkrete Unternehmen sind im Veranstaltungskalender einsehbar. \nSie sind ein Personaldienstleister und möchten an dieser Reihe teilnehmen? Kontaktieren Sie gern den gemeinsamen Arbeitgeberservice.
URL:https://jobcenter-wesermarsch.de/event/personaldienstleister-im-dialog-brake-2/
LOCATION:Jobcenter Wesermarsch Brake\, Weserstraße 2\, Brake\, 26919\, Germany
CATEGORIES:Jobcenter,Vor Ort
ATTACH;FMTTYPE=image/png:https://jobcenter-wesermarsch.de/wp-content/uploads/2026/03/pdl.png
END:VEVENT
BEGIN:VEVENT
DTSTART;TZID=Europe/Berlin:20260604T090000
DTEND;TZID=Europe/Berlin:20260604T094500
DTSTAMP:20260420T130310
CREATED:20260107T121354Z
LAST-MODIFIED:20260113T145845Z
UID:781-1780563600-1780566300@jobcenter-wesermarsch.de
SUMMARY:Spracheinstufung Integrationskurs (Nordenham)
DESCRIPTION:Raum: NH 1.06 U-Raum \nWenn Sie einen Integrationskurs belegen möchten\, melden Sie sich bitte vorher bei der KVHS an. \nBitte bringen Sie mit: \n\nAusweis\nBerechtigungs- oder Verpflichtungsschein\n\nDie Teilnahme an der Spracheinstufung ist kostenlos\, wenn eine Berechtigung oder Verpflichtung vorliegt.
URL:https://jobcenter-wesermarsch.de/event/spracheinstufung-integrationskurs-nordenham-16/
LOCATION:KVHS Wesermarsch (Nordenham)\, Marktplatz 5\, Nordenham\, 26954\, Germany
CATEGORIES:auswärts,Vor Ort
END:VEVENT
BEGIN:VEVENT
DTSTART;TZID=Europe/Berlin:20260604T090000
DTEND;TZID=Europe/Berlin:20260604T120000
DTSTAMP:20260420T130310
CREATED:20260107T122456Z
LAST-MODIFIED:20260415T122238Z
UID:792-1780563600-1780574400@jobcenter-wesermarsch.de
SUMMARY:Stromsparcheck – Energieberatung (Nordenham)
DESCRIPTION:Die Stromsparhelferinnen und -helfer sind im Wartebereich des Jobcenters in Nordenham anzutreffen. Sie sind für diese Beratung umfassend qualifiziert. Über 100 Stunden Schulung und die tägliche Arbeitspraxis machen sie zu erfahrenen Ratgebern\, die Ihnen dabei helfen\, Energie zu sparen. Die Stromsparhelfer kennen als ehemalige Langzeitarbeitslose die Alltagsprobleme von Haushalten mit geringem Einkommen aus eigener Erfahrung. \nTräger ist der Caritasverband im Kreis Wesermarsch e.V. \nDas Titelbild wurde mit Hilfe von KI generiert.
URL:https://jobcenter-wesermarsch.de/event/stromsparcheck-energieberatung-nordenham-2/
LOCATION:Jobcenter Wesermarsch Nordenham\, Bahnhofstr. 30\, Nordenham\, 26954\, Germany
CATEGORIES:Jobcenter,Vor Ort
ATTACH;FMTTYPE=image/png:https://jobcenter-wesermarsch.de/wp-content/uploads/2026/01/strom_16x9.png
ORGANIZER;CN="Caritas Wesermarsch - Stromsparcheck":MAILTO:stromsparcheck@caritas-wesermarsch.de
END:VEVENT
BEGIN:VEVENT
DTSTART;TZID=Europe/Berlin:20260604T110000
DTEND;TZID=Europe/Berlin:20260604T160000
DTSTAMP:20260420T130310
CREATED:20250901T110020Z
LAST-MODIFIED:20260327T105220Z
UID:76-1780570800-1780588800@jobcenter-wesermarsch.de
SUMMARY:Gesundheitslotsin (Brake)
DESCRIPTION:Tun Sie etwas Gutes für sich und Ihre Gesundheit! \nWorum geht es in der Beratung? \n\nIn einem Gespräch mit Frau Windhoff suchen Sie gemeinsam einen Weg\, um Ihr Wohlbefinden und Ihre Gesundheit zu verbessern\nFrau Windhoff berät Sie gerne zu den Themen Entspannung\, Bewegung\, Ernährung\, dem Umgang mit Suchtmitteln und Ihren persönlichen Gesundheitsfragen\n\nFrau Windhoff berät jeden vierten Donnerstag im Jobcenter Wesermarsch\, Standort Brake. Bitte vereinbaren Sie vorab einen Termin oder sprechen sie Ihren persönlichen Ansprechpartner im Jobcenter an. Wenn Sie spontan vorbei kommen\, melden Sie sich bitte am Tresen. \nDie Beratung ist für alle Kundinnen und Kunden des Jobcenters Wesermarsch kostenlos\, freiwillig und unverbindlich. Die Gesprächsinhalte verbleiben bei der Gesundheitslotsin und werden nicht an das Jobcenter weitergeleitet. \nInfo-Material\n\nPoster: Die Gesundheitslotsin\nPostkarte: Die Gesundheitslotsin
URL:https://jobcenter-wesermarsch.de/event/gesundheitslotsin-in-brake/
LOCATION:Jobcenter Wesermarsch Brake\, Weserstraße 2\, Brake\, 26919\, Germany
CATEGORIES:Jobcenter,Vor Ort
ATTACH;FMTTYPE=image/jpeg:https://jobcenter-wesermarsch.de/wp-content/uploads/2026/01/gesundheitslotsin_16x9.jpg
ORGANIZER;CN="Frau Windhoff":MAILTO:gesundheitslotsin-wesermarsch@ewe.net
END:VEVENT
BEGIN:VEVENT
DTSTART;TZID=Europe/Berlin:20260606T110000
DTEND;TZID=Europe/Berlin:20260606T150000
DTSTAMP:20260420T130310
CREATED:20260415T123642Z
LAST-MODIFIED:20260415T123642Z
UID:2193-1780743600-1780758000@jobcenter-wesermarsch.de
SUMMARY:20 Jahre Refugium in Nordenham
DESCRIPTION:Das Refugium in Nordenham feiert am 6. Juni 2026 sein 20-jähriges Bestehen in Nordenham und lädt alle Interessierten ein. \nDas Jobcenter Wesermarsch gratuliert seinem langjährigen Netzwerkpartner!
URL:https://jobcenter-wesermarsch.de/event/20-jahre-refugium-in-nordenham/
LOCATION:Refugium Wesermarsch (Nordenham)\, Viktoriastr. 16\, Nordenham\, 26954
CATEGORIES:auswärts,Vor Ort
END:VEVENT
BEGIN:VEVENT
DTSTART;TZID=Europe/Berlin:20260609T090000
DTEND;TZID=Europe/Berlin:20260609T094500
DTSTAMP:20260420T130310
CREATED:20260107T114223Z
LAST-MODIFIED:20260113T145824Z
UID:740-1780995600-1780998300@jobcenter-wesermarsch.de
SUMMARY:Spracheinstufung Integrationskurs (Brake)
DESCRIPTION:Raum: BR 1.3 Konferenzraum klein \nWenn Sie einen Integrationskurs belegen möchten\, melden Sie sich bitte vorher bei der KVHS an. \nBitte bringen Sie mit: \n\nAusweis\nBerechtigungs- oder Verpflichtungsschein\n\nDie Teilnahme an der Spracheinstufung ist kostenlos\, wenn eine Berechtigung oder Verpflichtung vorliegt.
URL:https://jobcenter-wesermarsch.de/event/spracheinstufung-integrationskurs-brake-14/
LOCATION:KVHS Wesermarsch\, Bürgermeister-Müller-Straße 35\, Brake\, 26919\, Germany
CATEGORIES:auswärts,Vor Ort
END:VEVENT
BEGIN:VEVENT
DTSTART;TZID=Europe/Berlin:20260611T090000
DTEND;TZID=Europe/Berlin:20260611T094500
DTSTAMP:20260420T130310
CREATED:20260107T121433Z
LAST-MODIFIED:20260113T145804Z
UID:783-1781168400-1781171100@jobcenter-wesermarsch.de
SUMMARY:Spracheinstufung Integrationskurs (Nordenham)
DESCRIPTION:Raum: NH 1.06 U-Raum \nWenn Sie einen Integrationskurs belegen möchten\, melden Sie sich bitte vorher bei der KVHS an. \nBitte bringen Sie mit: \n\nAusweis\nBerechtigungs- oder Verpflichtungsschein\n\nDie Teilnahme an der Spracheinstufung ist kostenlos\, wenn eine Berechtigung oder Verpflichtung vorliegt.
URL:https://jobcenter-wesermarsch.de/event/spracheinstufung-integrationskurs-nordenham-17/
LOCATION:KVHS Wesermarsch (Nordenham)\, Marktplatz 5\, Nordenham\, 26954\, Germany
CATEGORIES:auswärts,Vor Ort
END:VEVENT
BEGIN:VEVENT
DTSTART;TZID=Europe/Berlin:20260616T090000
DTEND;TZID=Europe/Berlin:20260616T094500
DTSTAMP:20260420T130310
CREATED:20260107T114304Z
LAST-MODIFIED:20260113T145744Z
UID:742-1781600400-1781603100@jobcenter-wesermarsch.de
SUMMARY:Spracheinstufung Integrationskurs (Brake)
DESCRIPTION:Raum: BR 1.3 Konferenzraum klein \nWenn Sie einen Integrationskurs belegen möchten\, melden Sie sich bitte vorher bei der KVHS an. \nBitte bringen Sie mit: \n\nAusweis\nBerechtigungs- oder Verpflichtungsschein\n\nDie Teilnahme an der Spracheinstufung ist kostenlos\, wenn eine Berechtigung oder Verpflichtung vorliegt.
URL:https://jobcenter-wesermarsch.de/event/spracheinstufung-integrationskurs-brake-15/
LOCATION:KVHS Wesermarsch\, Bürgermeister-Müller-Straße 35\, Brake\, 26919\, Germany
CATEGORIES:auswärts,Vor Ort
END:VEVENT
BEGIN:VEVENT
DTSTART;TZID=Europe/Berlin:20260618T090000
DTEND;TZID=Europe/Berlin:20260618T094500
DTSTAMP:20260420T130310
CREATED:20260107T121513Z
LAST-MODIFIED:20260113T145705Z
UID:785-1781773200-1781775900@jobcenter-wesermarsch.de
SUMMARY:Spracheinstufung Integrationskurs (Nordenham)
DESCRIPTION:Raum: NH 1.06 U-Raum \nWenn Sie einen Integrationskurs belegen möchten\, melden Sie sich bitte vorher bei der KVHS an. \nBitte bringen Sie mit: \n\nAusweis\nBerechtigungs- oder Verpflichtungsschein\n\nDie Teilnahme an der Spracheinstufung ist kostenlos\, wenn eine Berechtigung oder Verpflichtung vorliegt.
URL:https://jobcenter-wesermarsch.de/event/spracheinstufung-integrationskurs-nordenham-18/
LOCATION:KVHS Wesermarsch (Nordenham)\, Marktplatz 5\, Nordenham\, 26954\, Germany
CATEGORIES:auswärts,Vor Ort
END:VEVENT
BEGIN:VEVENT
DTSTART;TZID=Europe/Berlin:20260618T110000
DTEND;TZID=Europe/Berlin:20260618T160000
DTSTAMP:20260420T130310
CREATED:20260113T050907Z
LAST-MODIFIED:20260417T081402Z
UID:815-1781780400-1781798400@jobcenter-wesermarsch.de
SUMMARY:Gesundheitslotsin (Nordenham)
DESCRIPTION:Tun Sie etwas Gutes für sich und Ihre Gesundheit! \nWorum geht es in der Beratung? \n\nIn einem Gespräch mit Frau Windhoff suchen Sie gemeinsam einen Weg\, um Ihr Wohlbefinden und Ihre Gesundheit zu verbessern\nFrau Windhoff berät Sie gerne zu den Themen Entspannung\, Bewegung\, Ernährung\, dem Umgang mit Suchtmitteln und Ihren persönlichen Gesundheitsfragen\n\nFrau Windhoff berät jeden vierten Donnerstag im Jobcenter Wesermarsch\, Standort Nordenham. Bitte vereinbaren Sie vorab einen Termin oder sprechen sie Ihren persönlichen Ansprechpartner im Jobcenter an. Wenn Sie spontan vorbei kommen\, melden Sie sich bitte am Tresen. \nDie Beratung ist für alle Kundinnen und Kunden des Jobcenters Wesermarsch kostenlos\, freiwillig und unverbindlich. Die Gesprächsinhalte verbleiben bei der Gesundheitslotsin und werden nicht an das Jobcenter weitergeleitet. \nInfo-Material\n\nPoster: Die Gesundheitslotsin\nPostkarte: Die Gesundheitslotsin
URL:https://jobcenter-wesermarsch.de/event/gesundheitslotsin-in-nordenham-2/
LOCATION:Jobcenter Wesermarsch Nordenham\, Bahnhofstr. 30\, Nordenham\, 26954\, Germany
CATEGORIES:Jobcenter,Vor Ort
ATTACH;FMTTYPE=image/jpeg:https://jobcenter-wesermarsch.de/wp-content/uploads/2026/01/gesundheitslotsin_16x9.jpg
ORGANIZER;CN="Frau Windhoff":MAILTO:gesundheitslotsin-wesermarsch@ewe.net
END:VEVENT
BEGIN:VEVENT
DTSTART;TZID=Europe/Berlin:20260619T150000
DTEND;TZID=Europe/Berlin:20260619T180000
DTSTAMP:20260420T130310
CREATED:20260205T131339Z
LAST-MODIFIED:20260417T082057Z
UID:2010-1781881200-1781892000@jobcenter-wesermarsch.de
SUMMARY:Next Step – Starte durch zum Traumberuf
DESCRIPTION:2. Azubi- und Fachkräftemesse\nDie Stadt Nordenham lädt gemeinsam mit dem CVJM Sozialwerk Wesermarsch e.V. und Zeit & Service zur 2. Messe für Ausbildung\, duale Studiengänge und Karrierechancen ein. \nUnter dem Motto „Next Step – Starte durch zum Traumberuf“ erhalten Schüler\, Auszubildende und Berufseinsteiger: \n\nEinblicke in Ausbildungsberufe\, duale Studiengänge und Berufsfelder\nDirekte Gespräche mit Arbeitgebern und Fachkräften\nInfos zu Einstiegs-\, Ausbildungs- und Entwicklungsmöglichkeiten\n\nInfo-Material\n\nFlyer Azubi-Messe\nPlakat Azubi-Messe
URL:https://jobcenter-wesermarsch.de/event/next-step-starte-durch-zum-traumberuf/
LOCATION:Sozialwerk\, Helgoländer Damm 1\, Nordenham\, 26954\, Germany
CATEGORIES:auswärts,Vor Ort
ATTACH;FMTTYPE=image/jpeg:https://jobcenter-wesermarsch.de/wp-content/uploads/2026/02/next.jpg
END:VEVENT
BEGIN:VEVENT
DTSTART;TZID=Europe/Berlin:20260623T090000
DTEND;TZID=Europe/Berlin:20260623T094500
DTSTAMP:20260420T130310
CREATED:20260107T114434Z
LAST-MODIFIED:20260113T145640Z
UID:746-1782205200-1782207900@jobcenter-wesermarsch.de
SUMMARY:Spracheinstufung Integrationskurs (Brake)
DESCRIPTION:Raum: BR 1.3 Konferenzraum klein \nWenn Sie einen Integrationskurs belegen möchten\, melden Sie sich bitte vorher bei der KVHS an. \nBitte bringen Sie mit: \n\nAusweis\nBerechtigungs- oder Verpflichtungsschein\n\nDie Teilnahme an der Spracheinstufung ist kostenlos\, wenn eine Berechtigung oder Verpflichtung vorliegt.
URL:https://jobcenter-wesermarsch.de/event/spracheinstufung-integrationskurs-brake-17/
LOCATION:KVHS Wesermarsch\, Bürgermeister-Müller-Straße 35\, Brake\, 26919\, Germany
CATEGORIES:auswärts,Vor Ort
END:VEVENT
BEGIN:VEVENT
DTSTART;TZID=Europe/Berlin:20260624T143000
DTEND;TZID=Europe/Berlin:20260624T160000
DTSTAMP:20260420T130310
CREATED:20260318T054628Z
LAST-MODIFIED:20260318T054628Z
UID:2060-1782311400-1782316800@jobcenter-wesermarsch.de
SUMMARY:Anerkennung ausländischer Zeugnisse und Qualifikationen (arabisch)
DESCRIPTION:Informationsveranstaltungen für Ratsuchende aus arabischsprachigen Ländern\nDas Förderprogramm IQ unterstützt Sie dabei\, Ihren im Ausland erlernten Beruf in Deutschland anerkennen zu lassen. Das Ziel der kostenfreien Beratung ist es\, Personen mit ausländischen Berufs- und Studienabschlüssen dabei zu unterstützen\, einen Beruf in Deutschland auszuüben\, der ihren gelernten Qualifikationen entspricht. \nUm Ihnen genauer zu erklären\, was eine Berufsanerkennung bedeutet\, für wen sie wichtig ist und wie die Verfahren ablaufen\, bietet das Förderprogramm IQ Ihnen kostenlose\, arabischsprachige Informationsveranstaltungen an. \nWeitere Informationen finden Sie auf der Webseite vom migrationsportal.de.
URL:https://jobcenter-wesermarsch.de/event/anerkennung-auslaendischer-zeugnisse-und-qualifikationen-arabisch-2/
LOCATION:online
CATEGORIES:online
ORGANIZER;CN="F%C3%B6rderprogramm IQ":MAILTO:info@rkw-nord.de
END:VEVENT
BEGIN:VEVENT
DTSTART;TZID=Europe/Berlin:20260625T090000
DTEND;TZID=Europe/Berlin:20260625T094500
DTSTAMP:20260420T130310
CREATED:20260107T121559Z
LAST-MODIFIED:20260114T104337Z
UID:787-1782378000-1782380700@jobcenter-wesermarsch.de
SUMMARY:Spracheinstufung Integrationskurs (Nordenham)
DESCRIPTION:Raum: NH 1.06 U-Raum \nWenn Sie einen Integrationskurs belegen möchten\, melden Sie sich bitte vorher bei der KVHS an. \nBitte bringen Sie mit: \n\nAusweis\nBerechtigungs- oder Verpflichtungsschein\n\nDie Teilnahme an der Spracheinstufung ist kostenlos\, wenn eine Berechtigung oder Verpflichtung vorliegt.
URL:https://jobcenter-wesermarsch.de/event/spracheinstufung-integrationskurs-nordenham-19/
LOCATION:KVHS Wesermarsch (Nordenham)\, Marktplatz 5\, Nordenham\, 26954\, Germany
CATEGORIES:auswärts,Vor Ort
END:VEVENT
BEGIN:VEVENT
DTSTART;TZID=Europe/Berlin:20260630T090000
DTEND;TZID=Europe/Berlin:20260630T094500
DTSTAMP:20260420T130310
CREATED:20260107T114516Z
LAST-MODIFIED:20260114T104337Z
UID:748-1782810000-1782812700@jobcenter-wesermarsch.de
SUMMARY:Spracheinstufung Integrationskurs (Brake)
DESCRIPTION:Raum: BR 1.3 Konferenzraum klein \nWenn Sie einen Integrationskurs belegen möchten\, melden Sie sich bitte vorher bei der KVHS an. \nBitte bringen Sie mit: \n\nAusweis\nBerechtigungs- oder Verpflichtungsschein\n\nDie Teilnahme an der Spracheinstufung ist kostenlos\, wenn eine Berechtigung oder Verpflichtung vorliegt.
URL:https://jobcenter-wesermarsch.de/event/spracheinstufung-integrationskurs-brake-18/
LOCATION:KVHS Wesermarsch\, Bürgermeister-Müller-Straße 35\, Brake\, 26919\, Germany
CATEGORIES:auswärts,Vor Ort
END:VEVENT
END:VCALENDAR